BEGIN:VCALENDAR
VERSION:2.0
PRODID:-//Nouk Sanchez | Take Me to Truth - ECPv6.15.20//NONSGML v1.0//EN
CALSCALE:GREGORIAN
METHOD:PUBLISH
X-ORIGINAL-URL:https://nouksanchez.com
X-WR-CALDESC:Events for Nouk Sanchez | Take Me to Truth
REFRESH-INTERVAL;VALUE=DURATION:PT1H
X-Robots-Tag:noindex
X-PUBLISHED-TTL:PT1H
BEGIN:VTIMEZONE
TZID:America/Denver
BEGIN:DAYLIGHT
TZOFFSETFROM:-0700
TZOFFSETTO:-0600
TZNAME:MDT
DTSTART:20270314T090000
END:DAYLIGHT
BEGIN:STANDARD
TZOFFSETFROM:-0600
TZOFFSETTO:-0700
TZNAME:MST
DTSTART:20271107T080000
END:STANDARD
BEGIN:DAYLIGHT
TZOFFSETFROM:-0700
TZOFFSETTO:-0600
TZNAME:MDT
DTSTART:20280312T090000
END:DAYLIGHT
BEGIN:STANDARD
TZOFFSETFROM:-0600
TZOFFSETTO:-0700
TZNAME:MST
DTSTART:20281105T080000
END:STANDARD
BEGIN:DAYLIGHT
TZOFFSETFROM:-0700
TZOFFSETTO:-0600
TZNAME:MDT
DTSTART:20290311T090000
END:DAYLIGHT
BEGIN:STANDARD
TZOFFSETFROM:-0600
TZOFFSETTO:-0700
TZNAME:MST
DTSTART:20291104T080000
END:STANDARD
END:VTIMEZONE
BEGIN:VEVENT
DTSTART;TZID=America/Denver:20280419T110000
DTEND;TZID=America/Denver:20280419T120000
DTSTAMP:20260425T190752
CREATED:20250309T160519Z
LAST-MODIFIED:20260317T162256Z
UID:10026875-1839754800-1839758400@nouksanchez.com
SUMMARY:Emergence! w/Amber
DESCRIPTION:Meets Wednesdays – 11:00 a.m. Mountain Time\nEmergence is a drop-in platform for deep\, heart-based expressing of the Emergence of the Christ in us. No curriculum. Just us showing up with hearts on Fire for the Truth. Come in Mightiness! Ready to pray and to receive for the Whole Sonship. \nIt’s sharing Miracles\, Aha moments\, and direct questions with very little ‘personal story.’ It began spontaneously a couple of years ago as an extra hour for Amber’s TTC participants to Join in the immediacy of the Now. It grew and we felt to open it to anyone in our Take Me to Truth family. The meetings are deeply inspiring and relevant for us all. The questions (and Holy Spirit’s answers) are for each of us. \nEnroll here:  Emergence! w/Amber \nClick here to find the meeting time in your time zone:  Time Zone Converter
URL:https://nouksanchez.com/event/emergence-w-amber-2/2028-04-19/
CATEGORIES:TTC
END:VEVENT
END:VCALENDAR