BEGIN:VCALENDAR
VERSION:2.0
PRODID:-//Nouk Sanchez | Take Me to Truth - ECPv6.15.20//NONSGML v1.0//EN
CALSCALE:GREGORIAN
METHOD:PUBLISH
X-WR-CALNAME:Nouk Sanchez | Take Me to Truth
X-ORIGINAL-URL:https://nouksanchez.com
X-WR-CALDESC:Events for Nouk Sanchez | Take Me to Truth
REFRESH-INTERVAL;VALUE=DURATION:PT1H
X-Robots-Tag:noindex
X-PUBLISHED-TTL:PT1H
BEGIN:VTIMEZONE
TZID:America/Denver
BEGIN:DAYLIGHT
TZOFFSETFROM:-0700
TZOFFSETTO:-0600
TZNAME:MDT
DTSTART:20250309T090000
END:DAYLIGHT
BEGIN:STANDARD
TZOFFSETFROM:-0600
TZOFFSETTO:-0700
TZNAME:MST
DTSTART:20251102T080000
END:STANDARD
BEGIN:DAYLIGHT
TZOFFSETFROM:-0700
TZOFFSETTO:-0600
TZNAME:MDT
DTSTART:20260308T090000
END:DAYLIGHT
BEGIN:STANDARD
TZOFFSETFROM:-0600
TZOFFSETTO:-0700
TZNAME:MST
DTSTART:20261101T080000
END:STANDARD
BEGIN:DAYLIGHT
TZOFFSETFROM:-0700
TZOFFSETTO:-0600
TZNAME:MDT
DTSTART:20270314T090000
END:DAYLIGHT
BEGIN:STANDARD
TZOFFSETFROM:-0600
TZOFFSETTO:-0700
TZNAME:MST
DTSTART:20271107T080000
END:STANDARD
END:VTIMEZONE
BEGIN:VEVENT
DTSTART;TZID=America/Denver:20260519T110000
DTEND;TZID=America/Denver:20260519T123000
DTSTAMP:20260421T105407
CREATED:20260421T132743Z
LAST-MODIFIED:20260421T132922Z
UID:10026872-1779188400-1779193800@nouksanchez.com
SUMMARY:TTC w/Amber #052026
DESCRIPTION:The TTC journey is a 52-week program that comprehensively covers all topics ranging from the ego and the initial thought of separation\, to “mythical me” and its idols and defenses against awakening to the Love we are\, to forgiveness and accepting the Atonement. We discuss literal healing and miracles and offer tools and prayers to make the mandatory switch from “mythical me” to Holy Self. Best of all\, you undertake this journey with like-minded\, mighty companions and begin practicing the 7 Keys of Authentic Communication and the Holy Relationship. Those who have already graduated have testified that this course is life-changing and fundamental to their awakening.  \nThe TTC is not a self-study offering.  Although perfect attendance in the zoom room is not required\, regular attendance is. \nBy Donation \nMeets Thursdays\, starting May 19\, 2026 at 11:00 a.m. MDT (USA/Canada) [17:00 UTC] \nEnrollment Closes on June 2\, 2026 \nSessions run 90 minutes to two hours \nClick here for a time zone converter \nClick here to enroll in this offering
URL:https://nouksanchez.com/event/ttc-w-amber-052026/2026-05-19/
CATEGORIES:TTC
ATTACH;FMTTYPE=image/jpeg:https://nouksanchez.com/wp-content/uploads/2024/06/TTC-16-by-9-Amber-scaled.jpg
END:VEVENT
BEGIN:VEVENT
DTSTART;TZID=America/Denver:20260526T110000
DTEND;TZID=America/Denver:20260526T123000
DTSTAMP:20260421T105407
CREATED:20260421T132743Z
LAST-MODIFIED:20260421T132922Z
UID:10026873-1779793200-1779798600@nouksanchez.com
SUMMARY:TTC w/Amber #052026
DESCRIPTION:The TTC journey is a 52-week program that comprehensively covers all topics ranging from the ego and the initial thought of separation\, to “mythical me” and its idols and defenses against awakening to the Love we are\, to forgiveness and accepting the Atonement. We discuss literal healing and miracles and offer tools and prayers to make the mandatory switch from “mythical me” to Holy Self. Best of all\, you undertake this journey with like-minded\, mighty companions and begin practicing the 7 Keys of Authentic Communication and the Holy Relationship. Those who have already graduated have testified that this course is life-changing and fundamental to their awakening.  \nThe TTC is not a self-study offering.  Although perfect attendance in the zoom room is not required\, regular attendance is. \nBy Donation \nMeets Thursdays\, starting May 19\, 2026 at 11:00 a.m. MDT (USA/Canada) [17:00 UTC] \nEnrollment Closes on June 2\, 2026 \nSessions run 90 minutes to two hours \nClick here for a time zone converter \nClick here to enroll in this offering
URL:https://nouksanchez.com/event/ttc-w-amber-052026/2026-05-26/
CATEGORIES:TTC
ATTACH;FMTTYPE=image/jpeg:https://nouksanchez.com/wp-content/uploads/2024/06/TTC-16-by-9-Amber-scaled.jpg
END:VEVENT
BEGIN:VEVENT
DTSTART;TZID=America/Denver:20260602T110000
DTEND;TZID=America/Denver:20260602T123000
DTSTAMP:20260421T105407
CREATED:20260421T132743Z
LAST-MODIFIED:20260421T132922Z
UID:10026874-1780398000-1780403400@nouksanchez.com
SUMMARY:TTC w/Amber #052026
DESCRIPTION:The TTC journey is a 52-week program that comprehensively covers all topics ranging from the ego and the initial thought of separation\, to “mythical me” and its idols and defenses against awakening to the Love we are\, to forgiveness and accepting the Atonement. We discuss literal healing and miracles and offer tools and prayers to make the mandatory switch from “mythical me” to Holy Self. Best of all\, you undertake this journey with like-minded\, mighty companions and begin practicing the 7 Keys of Authentic Communication and the Holy Relationship. Those who have already graduated have testified that this course is life-changing and fundamental to their awakening.  \nThe TTC is not a self-study offering.  Although perfect attendance in the zoom room is not required\, regular attendance is. \nBy Donation \nMeets Thursdays\, starting May 19\, 2026 at 11:00 a.m. MDT (USA/Canada) [17:00 UTC] \nEnrollment Closes on June 2\, 2026 \nSessions run 90 minutes to two hours \nClick here for a time zone converter \nClick here to enroll in this offering
URL:https://nouksanchez.com/event/ttc-w-amber-052026/2026-06-02/
CATEGORIES:TTC
ATTACH;FMTTYPE=image/jpeg:https://nouksanchez.com/wp-content/uploads/2024/06/TTC-16-by-9-Amber-scaled.jpg
END:VEVENT
END:VCALENDAR