BEGIN:VCALENDAR
VERSION:2.0
PRODID:-//Nouk Sanchez | Take Me to Truth - ECPv6.15.20//NONSGML v1.0//EN
CALSCALE:GREGORIAN
METHOD:PUBLISH
X-ORIGINAL-URL:https://nouksanchez.com
X-WR-CALDESC:Events for Nouk Sanchez | Take Me to Truth
REFRESH-INTERVAL;VALUE=DURATION:PT1H
X-Robots-Tag:noindex
X-PUBLISHED-TTL:PT1H
BEGIN:VTIMEZONE
TZID:America/Denver
BEGIN:DAYLIGHT
TZOFFSETFROM:-0700
TZOFFSETTO:-0600
TZNAME:MDT
DTSTART:20250309T090000
END:DAYLIGHT
BEGIN:STANDARD
TZOFFSETFROM:-0600
TZOFFSETTO:-0700
TZNAME:MST
DTSTART:20251102T080000
END:STANDARD
BEGIN:DAYLIGHT
TZOFFSETFROM:-0700
TZOFFSETTO:-0600
TZNAME:MDT
DTSTART:20260308T090000
END:DAYLIGHT
BEGIN:STANDARD
TZOFFSETFROM:-0600
TZOFFSETTO:-0700
TZNAME:MST
DTSTART:20261101T080000
END:STANDARD
BEGIN:DAYLIGHT
TZOFFSETFROM:-0700
TZOFFSETTO:-0600
TZNAME:MDT
DTSTART:20270314T090000
END:DAYLIGHT
BEGIN:STANDARD
TZOFFSETFROM:-0600
TZOFFSETTO:-0700
TZNAME:MST
DTSTART:20271107T080000
END:STANDARD
END:VTIMEZONE
BEGIN:VEVENT
DTSTART;TZID=America/Denver:20260405T070000
DTEND;TZID=America/Denver:20260405T080000
DTSTAMP:20260421T193507
CREATED:20260108T164623Z
LAST-MODIFIED:20260108T164623Z
UID:10025789-1775372400-1775376000@nouksanchez.com
SUMMARY:ACIM Daily Workbook Lesson Reflections - 2026
DESCRIPTION:Every morning in 2026\, we read and lightly unpack the daily Workbook lesson followed by a joining with the intention of receiving the transmission from the passage and emphasizing the experiential felt state of ‘I Am’ with live participants. \nImmediately following each half hour lesson attendees may choose to stay as we then read from the text or other ACIM literature to get a deeper understanding of A Course in Miracles in the group setting. \nAlong with the incredibly helpful daily lesson unpacking with Nouk and Coreen on YouTube\, we highly recommend you honor your Self with a quiet space to join with the idea for the day in your daily Workbook Lesson.  \nThe Workbook Lessons give each of us such an incredible opportunity to get still\, to join\, and to listen to our Inner Teacher\, the Holy Spirit. We will receive direct insights that are meant for each of us to support the mind training that will undo the false self-concepts that are in the way of Truth\, in the way of the Presence of the Christ I Am. \nMeets Daily \n7:00 a.m. Mountain Time (USA) \nFor Zoom Access and additional information\, enroll here: \nACIM Daily Lesson Reflections – 2026
URL:https://nouksanchez.com/event/acim-daily-workbook-lesson-reflections-2026/2026-04-05/
CATEGORIES:Workbook Lessons
END:VEVENT
BEGIN:VEVENT
DTSTART;TZID=America/Denver:20260406T070000
DTEND;TZID=America/Denver:20260406T080000
DTSTAMP:20260421T193507
CREATED:20260108T164623Z
LAST-MODIFIED:20260108T164623Z
UID:10025790-1775458800-1775462400@nouksanchez.com
SUMMARY:ACIM Daily Workbook Lesson Reflections - 2026
DESCRIPTION:Every morning in 2026\, we read and lightly unpack the daily Workbook lesson followed by a joining with the intention of receiving the transmission from the passage and emphasizing the experiential felt state of ‘I Am’ with live participants. \nImmediately following each half hour lesson attendees may choose to stay as we then read from the text or other ACIM literature to get a deeper understanding of A Course in Miracles in the group setting. \nAlong with the incredibly helpful daily lesson unpacking with Nouk and Coreen on YouTube\, we highly recommend you honor your Self with a quiet space to join with the idea for the day in your daily Workbook Lesson.  \nThe Workbook Lessons give each of us such an incredible opportunity to get still\, to join\, and to listen to our Inner Teacher\, the Holy Spirit. We will receive direct insights that are meant for each of us to support the mind training that will undo the false self-concepts that are in the way of Truth\, in the way of the Presence of the Christ I Am. \nMeets Daily \n7:00 a.m. Mountain Time (USA) \nFor Zoom Access and additional information\, enroll here: \nACIM Daily Lesson Reflections – 2026
URL:https://nouksanchez.com/event/acim-daily-workbook-lesson-reflections-2026/2026-04-06/
CATEGORIES:Workbook Lessons
END:VEVENT
BEGIN:VEVENT
DTSTART;TZID=America/Denver:20260407T070000
DTEND;TZID=America/Denver:20260407T080000
DTSTAMP:20260421T193507
CREATED:20260108T164623Z
LAST-MODIFIED:20260108T164623Z
UID:10025791-1775545200-1775548800@nouksanchez.com
SUMMARY:ACIM Daily Workbook Lesson Reflections - 2026
DESCRIPTION:Every morning in 2026\, we read and lightly unpack the daily Workbook lesson followed by a joining with the intention of receiving the transmission from the passage and emphasizing the experiential felt state of ‘I Am’ with live participants. \nImmediately following each half hour lesson attendees may choose to stay as we then read from the text or other ACIM literature to get a deeper understanding of A Course in Miracles in the group setting. \nAlong with the incredibly helpful daily lesson unpacking with Nouk and Coreen on YouTube\, we highly recommend you honor your Self with a quiet space to join with the idea for the day in your daily Workbook Lesson.  \nThe Workbook Lessons give each of us such an incredible opportunity to get still\, to join\, and to listen to our Inner Teacher\, the Holy Spirit. We will receive direct insights that are meant for each of us to support the mind training that will undo the false self-concepts that are in the way of Truth\, in the way of the Presence of the Christ I Am. \nMeets Daily \n7:00 a.m. Mountain Time (USA) \nFor Zoom Access and additional information\, enroll here: \nACIM Daily Lesson Reflections – 2026
URL:https://nouksanchez.com/event/acim-daily-workbook-lesson-reflections-2026/2026-04-07/
CATEGORIES:Workbook Lessons
END:VEVENT
BEGIN:VEVENT
DTSTART;TZID=America/Denver:20260408T070000
DTEND;TZID=America/Denver:20260408T080000
DTSTAMP:20260421T193507
CREATED:20260108T164623Z
LAST-MODIFIED:20260108T164623Z
UID:10025792-1775631600-1775635200@nouksanchez.com
SUMMARY:ACIM Daily Workbook Lesson Reflections - 2026
DESCRIPTION:Every morning in 2026\, we read and lightly unpack the daily Workbook lesson followed by a joining with the intention of receiving the transmission from the passage and emphasizing the experiential felt state of ‘I Am’ with live participants. \nImmediately following each half hour lesson attendees may choose to stay as we then read from the text or other ACIM literature to get a deeper understanding of A Course in Miracles in the group setting. \nAlong with the incredibly helpful daily lesson unpacking with Nouk and Coreen on YouTube\, we highly recommend you honor your Self with a quiet space to join with the idea for the day in your daily Workbook Lesson.  \nThe Workbook Lessons give each of us such an incredible opportunity to get still\, to join\, and to listen to our Inner Teacher\, the Holy Spirit. We will receive direct insights that are meant for each of us to support the mind training that will undo the false self-concepts that are in the way of Truth\, in the way of the Presence of the Christ I Am. \nMeets Daily \n7:00 a.m. Mountain Time (USA) \nFor Zoom Access and additional information\, enroll here: \nACIM Daily Lesson Reflections – 2026
URL:https://nouksanchez.com/event/acim-daily-workbook-lesson-reflections-2026/2026-04-08/
CATEGORIES:Workbook Lessons
END:VEVENT
BEGIN:VEVENT
DTSTART;TZID=America/Denver:20260409T070000
DTEND;TZID=America/Denver:20260409T080000
DTSTAMP:20260421T193507
CREATED:20260108T164623Z
LAST-MODIFIED:20260108T164623Z
UID:10025793-1775718000-1775721600@nouksanchez.com
SUMMARY:ACIM Daily Workbook Lesson Reflections - 2026
DESCRIPTION:Every morning in 2026\, we read and lightly unpack the daily Workbook lesson followed by a joining with the intention of receiving the transmission from the passage and emphasizing the experiential felt state of ‘I Am’ with live participants. \nImmediately following each half hour lesson attendees may choose to stay as we then read from the text or other ACIM literature to get a deeper understanding of A Course in Miracles in the group setting. \nAlong with the incredibly helpful daily lesson unpacking with Nouk and Coreen on YouTube\, we highly recommend you honor your Self with a quiet space to join with the idea for the day in your daily Workbook Lesson.  \nThe Workbook Lessons give each of us such an incredible opportunity to get still\, to join\, and to listen to our Inner Teacher\, the Holy Spirit. We will receive direct insights that are meant for each of us to support the mind training that will undo the false self-concepts that are in the way of Truth\, in the way of the Presence of the Christ I Am. \nMeets Daily \n7:00 a.m. Mountain Time (USA) \nFor Zoom Access and additional information\, enroll here: \nACIM Daily Lesson Reflections – 2026
URL:https://nouksanchez.com/event/acim-daily-workbook-lesson-reflections-2026/2026-04-09/
CATEGORIES:Workbook Lessons
END:VEVENT
BEGIN:VEVENT
DTSTART;TZID=America/Denver:20260410T070000
DTEND;TZID=America/Denver:20260410T080000
DTSTAMP:20260421T193507
CREATED:20260108T164623Z
LAST-MODIFIED:20260108T164623Z
UID:10025794-1775804400-1775808000@nouksanchez.com
SUMMARY:ACIM Daily Workbook Lesson Reflections - 2026
DESCRIPTION:Every morning in 2026\, we read and lightly unpack the daily Workbook lesson followed by a joining with the intention of receiving the transmission from the passage and emphasizing the experiential felt state of ‘I Am’ with live participants. \nImmediately following each half hour lesson attendees may choose to stay as we then read from the text or other ACIM literature to get a deeper understanding of A Course in Miracles in the group setting. \nAlong with the incredibly helpful daily lesson unpacking with Nouk and Coreen on YouTube\, we highly recommend you honor your Self with a quiet space to join with the idea for the day in your daily Workbook Lesson.  \nThe Workbook Lessons give each of us such an incredible opportunity to get still\, to join\, and to listen to our Inner Teacher\, the Holy Spirit. We will receive direct insights that are meant for each of us to support the mind training that will undo the false self-concepts that are in the way of Truth\, in the way of the Presence of the Christ I Am. \nMeets Daily \n7:00 a.m. Mountain Time (USA) \nFor Zoom Access and additional information\, enroll here: \nACIM Daily Lesson Reflections – 2026
URL:https://nouksanchez.com/event/acim-daily-workbook-lesson-reflections-2026/2026-04-10/
CATEGORIES:Workbook Lessons
END:VEVENT
BEGIN:VEVENT
DTSTART;TZID=America/Denver:20260411T070000
DTEND;TZID=America/Denver:20260411T080000
DTSTAMP:20260421T193507
CREATED:20260108T164623Z
LAST-MODIFIED:20260108T164623Z
UID:10025795-1775890800-1775894400@nouksanchez.com
SUMMARY:ACIM Daily Workbook Lesson Reflections - 2026
DESCRIPTION:Every morning in 2026\, we read and lightly unpack the daily Workbook lesson followed by a joining with the intention of receiving the transmission from the passage and emphasizing the experiential felt state of ‘I Am’ with live participants. \nImmediately following each half hour lesson attendees may choose to stay as we then read from the text or other ACIM literature to get a deeper understanding of A Course in Miracles in the group setting. \nAlong with the incredibly helpful daily lesson unpacking with Nouk and Coreen on YouTube\, we highly recommend you honor your Self with a quiet space to join with the idea for the day in your daily Workbook Lesson.  \nThe Workbook Lessons give each of us such an incredible opportunity to get still\, to join\, and to listen to our Inner Teacher\, the Holy Spirit. We will receive direct insights that are meant for each of us to support the mind training that will undo the false self-concepts that are in the way of Truth\, in the way of the Presence of the Christ I Am. \nMeets Daily \n7:00 a.m. Mountain Time (USA) \nFor Zoom Access and additional information\, enroll here: \nACIM Daily Lesson Reflections – 2026
URL:https://nouksanchez.com/event/acim-daily-workbook-lesson-reflections-2026/2026-04-11/
CATEGORIES:Workbook Lessons
END:VEVENT
END:VCALENDAR