BEGIN:VCALENDAR
VERSION:2.0
PRODID:-//Nouk Sanchez | Take Me to Truth - ECPv6.15.20//NONSGML v1.0//EN
CALSCALE:GREGORIAN
METHOD:PUBLISH
X-WR-CALNAME:Nouk Sanchez | Take Me to Truth
X-ORIGINAL-URL:https://nouksanchez.com
X-WR-CALDESC:Events for Nouk Sanchez | Take Me to Truth
REFRESH-INTERVAL;VALUE=DURATION:PT1H
X-Robots-Tag:noindex
X-PUBLISHED-TTL:PT1H
BEGIN:VTIMEZONE
TZID:America/Denver
BEGIN:DAYLIGHT
TZOFFSETFROM:-0700
TZOFFSETTO:-0600
TZNAME:MDT
DTSTART:20250309T090000
END:DAYLIGHT
BEGIN:STANDARD
TZOFFSETFROM:-0600
TZOFFSETTO:-0700
TZNAME:MST
DTSTART:20251102T080000
END:STANDARD
BEGIN:DAYLIGHT
TZOFFSETFROM:-0700
TZOFFSETTO:-0600
TZNAME:MDT
DTSTART:20260308T090000
END:DAYLIGHT
BEGIN:STANDARD
TZOFFSETFROM:-0600
TZOFFSETTO:-0700
TZNAME:MST
DTSTART:20261101T080000
END:STANDARD
BEGIN:DAYLIGHT
TZOFFSETFROM:-0700
TZOFFSETTO:-0600
TZNAME:MDT
DTSTART:20270314T090000
END:DAYLIGHT
BEGIN:STANDARD
TZOFFSETFROM:-0600
TZOFFSETTO:-0700
TZNAME:MST
DTSTART:20271107T080000
END:STANDARD
END:VTIMEZONE
BEGIN:VEVENT
DTSTART;TZID=America/Denver:20260422T100000
DTEND;TZID=America/Denver:20260422T113000
DTSTAMP:20260421T092233
CREATED:20260309T223708Z
LAST-MODIFIED:20260309T223935Z
UID:10026083-1776852000-1776857400@nouksanchez.com
SUMMARY:TTC w/Karen M #042026
DESCRIPTION:The TTC journey is a 52-week program that comprehensively covers all topics ranging from the ego and the initial thought of separation\, to “mythical me” and its idols and defenses against awakening to the Love we are\, to forgiveness and accepting the Atonement. We discuss literal healing and miracles and offer tools and prayers to make the mandatory switch from “mythical me” to Holy Self. Best of all\, you undertake this journey with like-minded\, mighty companions and begin practicing the 7 Keys of Authentic Communication and the Holy Relationship. Those who have already graduated have testified that this course is life-changing and fundamental to their awakening.  \nThe TTC is not a self-study offering.  Although perfect attendance in the zoom room is not required\, regular attendance is. \nBy Donation \nMeets Wednesdays\, starting April 8\, 2026 at 10:00 a.m. MDT (USA/Canada) [16:00 UTC] \nEnrollment Closes on 04/22/2026 \nSessions run 90 minutes to two hours \nClick here for a time zone converter \nClick here to enroll in this offering
URL:https://nouksanchez.com/event/ttc-w-karen-m-042026/2026-04-22/
CATEGORIES:TTC
ATTACH;FMTTYPE=image/jpeg:https://nouksanchez.com/wp-content/uploads/2025/01/TTC-16-by-9-Karen-M-scaled.jpg
END:VEVENT
BEGIN:VEVENT
DTSTART;TZID=America/Denver:20260422T110000
DTEND;TZID=America/Denver:20260422T120000
DTSTAMP:20260421T092233
CREATED:20250309T160519Z
LAST-MODIFIED:20260317T162256Z
UID:10013437-1776855600-1776859200@nouksanchez.com
SUMMARY:Emergence! w/Amber
DESCRIPTION:Meets Wednesdays – 11:00 a.m. Mountain Time\nEmergence is a drop-in platform for deep\, heart-based expressing of the Emergence of the Christ in us. No curriculum. Just us showing up with hearts on Fire for the Truth. Come in Mightiness! Ready to pray and to receive for the Whole Sonship. \nIt’s sharing Miracles\, Aha moments\, and direct questions with very little ‘personal story.’ It began spontaneously a couple of years ago as an extra hour for Amber’s TTC participants to Join in the immediacy of the Now. It grew and we felt to open it to anyone in our Take Me to Truth family. The meetings are deeply inspiring and relevant for us all. The questions (and Holy Spirit’s answers) are for each of us. \nEnroll here:  Emergence! w/Amber \nClick here to find the meeting time in your time zone:  Time Zone Converter
URL:https://nouksanchez.com/event/emergence-w-amber-2/2026-04-22/
CATEGORIES:TTC
END:VEVENT
BEGIN:VEVENT
DTSTART;TZID=America/Denver:20260425T000000
DTEND;TZID=America/Denver:20260425T020000
DTSTAMP:20260421T092233
CREATED:20260317T181643Z
LAST-MODIFIED:20260317T181644Z
UID:10026753-1777075200-1777082400@nouksanchez.com
SUMMARY:The Next Level of Trust w/Allen - 1
DESCRIPTION:Announcing a new opportunity for TTC Graduates to join with their Holy brothers and sisters \nThe Next Level of Trust for all TTC Graduates meets every Saturday at \n7:00 am Central European Time (CET) \n5:00 pm (17:00) Australian Eastern Time (AET) \n06:00 UTC \nMidnight\, Friday\, Mountain Daylight Time (MDT USA/Canada) \nTime Zone Converter: click to find the time in your time zone \nThe Next Level of Trust sessions are a place of continued gathering of those who have graduated from the Total Transformation Course and long to continue both the joining and the sharing of what it is like to let go of all stories and instead embody the Light that we are. It is here that we are all teachers and students. We hold space for one another in total trust that the Holy Spirit\, our right Mind\, is speaking through each one of us. In our sharing of our revelations\, our demonstrations\, and testimonies of healing\, we anchor the Truth ever more deeply.  We allow the Love we share to grow into such proportions that bodies and stories and all remnants of separation simply dissolve into the memory of the one shared Holy Self we are. We welcome you with open arms and look forward to continuing the journey Home with you here. \nThis session is facilitated by our dear brother\, Allen.  Please click here for more information about Allen. \nClick here for more info about Allen \nThis offering is open to TTC graduates.  If you are a TTC graduate and want to join\, please send an email to truth@takemetotruth.org .  Tell us your TTC facilitator’s name and we will confirm your status and send you a link to enroll. \nAll offerings are by donation.  If you are guided\, please donate here:  Donate Here
URL:https://nouksanchez.com/event/the-next-level-of-trust-w-allen-2-2-2/2026-04-25/
CATEGORIES:Post-TTC
END:VEVENT
BEGIN:VEVENT
DTSTART;TZID=America/Denver:20260425T070000
DTEND;TZID=America/Denver:20260425T090000
DTSTAMP:20260421T092233
CREATED:20231104T214213Z
LAST-MODIFIED:20260317T163557Z
UID:10011433-1777100400-1777107600@nouksanchez.com
SUMMARY:The Next Level of Trust w/Allen - 2
DESCRIPTION:The Next Level of Trust w/Allen \nAnnouncing a new opportunity for TTC Graduates to join with their Holy brothers and sisters \nThe Next Level of Trust for all TTC Graduates meets every Saturday. \n7:00 am Mountain Daylight Time  (MDT USA/Canada) \n2:00 pm (14:00) Central European Time (CET) \nMidnight Saturday Australian Eastern Time (AET) \n13:00 UTC \nTime Zone Converter: click to find the time in your time zone \nWelcome to The Next Level of Trust w/Allen. This is a place of continued gathering of those who have graduated from the Total Transformation Course and long to continue both the joining and the sharing of what it is like to let go of all stories and instead embody the Light that we are. It is here that we hold space for one another in total trust that the Holy Spirit\, our right Mind\, is speaking through each and every one of us\, and we are all Teacher and Student. In our sharing of our revelations\, our demonstrations and testimonies of healing\, we anchor the Truth ever more deeply\, along with allowing the Love we share to grow into such proportions that bodies and stories and all remnants of separation simply dissolve into the memory of the One shared Holy Self we are. We welcome you with open arms and look forward to continuing the journey Home with you here. \nThis session is facilitated by our dear brother\, Allen.  Please click here for more information about Allen. \nClick here for more info about Allen \nThis offering is open to TTC graduates.  If you are a TTC graduate and want to join\, please send an email to truth@takemetotruth.org .  Tell us your TTC facilitator’s name and we will confirm your status and send you a link to enroll. \nAll offerings are by donation.  If you are guided\, please donate here:  Donate Here
URL:https://nouksanchez.com/event/the-next-level-of-trust-w-allen/2026-04-25/
CATEGORIES:Post-TTC
END:VEVENT
END:VCALENDAR