BEGIN:VCALENDAR
VERSION:2.0
PRODID:-//Nouk Sanchez | Take Me to Truth - ECPv6.15.20//NONSGML v1.0//EN
CALSCALE:GREGORIAN
METHOD:PUBLISH
X-WR-CALNAME:Nouk Sanchez | Take Me to Truth
X-ORIGINAL-URL:https://nouksanchez.com
X-WR-CALDESC:Events for Nouk Sanchez | Take Me to Truth
REFRESH-INTERVAL;VALUE=DURATION:PT1H
X-Robots-Tag:noindex
X-PUBLISHED-TTL:PT1H
BEGIN:VTIMEZONE
TZID:America/Denver
BEGIN:DAYLIGHT
TZOFFSETFROM:-0700
TZOFFSETTO:-0600
TZNAME:MDT
DTSTART:20270314T090000
END:DAYLIGHT
BEGIN:STANDARD
TZOFFSETFROM:-0600
TZOFFSETTO:-0700
TZNAME:MST
DTSTART:20271107T080000
END:STANDARD
BEGIN:DAYLIGHT
TZOFFSETFROM:-0700
TZOFFSETTO:-0600
TZNAME:MDT
DTSTART:20280312T090000
END:DAYLIGHT
BEGIN:STANDARD
TZOFFSETFROM:-0600
TZOFFSETTO:-0700
TZNAME:MST
DTSTART:20281105T080000
END:STANDARD
BEGIN:DAYLIGHT
TZOFFSETFROM:-0700
TZOFFSETTO:-0600
TZNAME:MDT
DTSTART:20290311T090000
END:DAYLIGHT
BEGIN:STANDARD
TZOFFSETFROM:-0600
TZOFFSETTO:-0700
TZNAME:MST
DTSTART:20291104T080000
END:STANDARD
END:VTIMEZONE
BEGIN:VEVENT
DTSTART;TZID=America/Denver:20280401T070000
DTEND;TZID=America/Denver:20280401T090000
DTSTAMP:20260422T160007
CREATED:20231104T214213Z
LAST-MODIFIED:20260317T163557Z
UID:10026858-1838185200-1838192400@nouksanchez.com
SUMMARY:The Next Level of Trust w/Allen - 2
DESCRIPTION:The Next Level of Trust w/Allen \nAnnouncing a new opportunity for TTC Graduates to join with their Holy brothers and sisters \nThe Next Level of Trust for all TTC Graduates meets every Saturday. \n7:00 am Mountain Daylight Time  (MDT USA/Canada) \n2:00 pm (14:00) Central European Time (CET) \nMidnight Saturday Australian Eastern Time (AET) \n13:00 UTC \nTime Zone Converter: click to find the time in your time zone \nWelcome to The Next Level of Trust w/Allen. This is a place of continued gathering of those who have graduated from the Total Transformation Course and long to continue both the joining and the sharing of what it is like to let go of all stories and instead embody the Light that we are. It is here that we hold space for one another in total trust that the Holy Spirit\, our right Mind\, is speaking through each and every one of us\, and we are all Teacher and Student. In our sharing of our revelations\, our demonstrations and testimonies of healing\, we anchor the Truth ever more deeply\, along with allowing the Love we share to grow into such proportions that bodies and stories and all remnants of separation simply dissolve into the memory of the One shared Holy Self we are. We welcome you with open arms and look forward to continuing the journey Home with you here. \nThis session is facilitated by our dear brother\, Allen.  Please click here for more information about Allen. \nClick here for more info about Allen \nThis offering is open to TTC graduates.  If you are a TTC graduate and want to join\, please send an email to truth@takemetotruth.org .  Tell us your TTC facilitator’s name and we will confirm your status and send you a link to enroll. \nAll offerings are by donation.  If you are guided\, please donate here:  Donate Here
URL:https://nouksanchez.com/event/the-next-level-of-trust-w-allen/2028-04-01/
CATEGORIES:Post-TTC
END:VEVENT
BEGIN:VEVENT
DTSTART;TZID=America/Denver:20280408T070000
DTEND;TZID=America/Denver:20280408T090000
DTSTAMP:20260422T160007
CREATED:20231104T214213Z
LAST-MODIFIED:20260317T163557Z
UID:10026861-1838790000-1838797200@nouksanchez.com
SUMMARY:The Next Level of Trust w/Allen - 2
DESCRIPTION:The Next Level of Trust w/Allen \nAnnouncing a new opportunity for TTC Graduates to join with their Holy brothers and sisters \nThe Next Level of Trust for all TTC Graduates meets every Saturday. \n7:00 am Mountain Daylight Time  (MDT USA/Canada) \n2:00 pm (14:00) Central European Time (CET) \nMidnight Saturday Australian Eastern Time (AET) \n13:00 UTC \nTime Zone Converter: click to find the time in your time zone \nWelcome to The Next Level of Trust w/Allen. This is a place of continued gathering of those who have graduated from the Total Transformation Course and long to continue both the joining and the sharing of what it is like to let go of all stories and instead embody the Light that we are. It is here that we hold space for one another in total trust that the Holy Spirit\, our right Mind\, is speaking through each and every one of us\, and we are all Teacher and Student. In our sharing of our revelations\, our demonstrations and testimonies of healing\, we anchor the Truth ever more deeply\, along with allowing the Love we share to grow into such proportions that bodies and stories and all remnants of separation simply dissolve into the memory of the One shared Holy Self we are. We welcome you with open arms and look forward to continuing the journey Home with you here. \nThis session is facilitated by our dear brother\, Allen.  Please click here for more information about Allen. \nClick here for more info about Allen \nThis offering is open to TTC graduates.  If you are a TTC graduate and want to join\, please send an email to truth@takemetotruth.org .  Tell us your TTC facilitator’s name and we will confirm your status and send you a link to enroll. \nAll offerings are by donation.  If you are guided\, please donate here:  Donate Here
URL:https://nouksanchez.com/event/the-next-level-of-trust-w-allen/2028-04-08/
CATEGORIES:Post-TTC
END:VEVENT
BEGIN:VEVENT
DTSTART;TZID=America/Denver:20280415T070000
DTEND;TZID=America/Denver:20280415T090000
DTSTAMP:20260422T160007
CREATED:20231104T214213Z
LAST-MODIFIED:20260317T163557Z
UID:10026864-1839394800-1839402000@nouksanchez.com
SUMMARY:The Next Level of Trust w/Allen - 2
DESCRIPTION:The Next Level of Trust w/Allen \nAnnouncing a new opportunity for TTC Graduates to join with their Holy brothers and sisters \nThe Next Level of Trust for all TTC Graduates meets every Saturday. \n7:00 am Mountain Daylight Time  (MDT USA/Canada) \n2:00 pm (14:00) Central European Time (CET) \nMidnight Saturday Australian Eastern Time (AET) \n13:00 UTC \nTime Zone Converter: click to find the time in your time zone \nWelcome to The Next Level of Trust w/Allen. This is a place of continued gathering of those who have graduated from the Total Transformation Course and long to continue both the joining and the sharing of what it is like to let go of all stories and instead embody the Light that we are. It is here that we hold space for one another in total trust that the Holy Spirit\, our right Mind\, is speaking through each and every one of us\, and we are all Teacher and Student. In our sharing of our revelations\, our demonstrations and testimonies of healing\, we anchor the Truth ever more deeply\, along with allowing the Love we share to grow into such proportions that bodies and stories and all remnants of separation simply dissolve into the memory of the One shared Holy Self we are. We welcome you with open arms and look forward to continuing the journey Home with you here. \nThis session is facilitated by our dear brother\, Allen.  Please click here for more information about Allen. \nClick here for more info about Allen \nThis offering is open to TTC graduates.  If you are a TTC graduate and want to join\, please send an email to truth@takemetotruth.org .  Tell us your TTC facilitator’s name and we will confirm your status and send you a link to enroll. \nAll offerings are by donation.  If you are guided\, please donate here:  Donate Here
URL:https://nouksanchez.com/event/the-next-level-of-trust-w-allen/2028-04-15/
CATEGORIES:Post-TTC
END:VEVENT
END:VCALENDAR