BEGIN:VCALENDAR
VERSION:2.0
PRODID:-//Nouk Sanchez | Take Me to Truth - ECPv6.15.20//NONSGML v1.0//EN
CALSCALE:GREGORIAN
METHOD:PUBLISH
X-WR-CALNAME:Nouk Sanchez | Take Me to Truth
X-ORIGINAL-URL:https://nouksanchez.com
X-WR-CALDESC:Events for Nouk Sanchez | Take Me to Truth
REFRESH-INTERVAL;VALUE=DURATION:PT1H
X-Robots-Tag:noindex
X-PUBLISHED-TTL:PT1H
BEGIN:VTIMEZONE
TZID:America/Denver
BEGIN:DAYLIGHT
TZOFFSETFROM:-0700
TZOFFSETTO:-0600
TZNAME:MDT
DTSTART:20250309T090000
END:DAYLIGHT
BEGIN:STANDARD
TZOFFSETFROM:-0600
TZOFFSETTO:-0700
TZNAME:MST
DTSTART:20251102T080000
END:STANDARD
BEGIN:DAYLIGHT
TZOFFSETFROM:-0700
TZOFFSETTO:-0600
TZNAME:MDT
DTSTART:20260308T090000
END:DAYLIGHT
BEGIN:STANDARD
TZOFFSETFROM:-0600
TZOFFSETTO:-0700
TZNAME:MST
DTSTART:20261101T080000
END:STANDARD
BEGIN:DAYLIGHT
TZOFFSETFROM:-0700
TZOFFSETTO:-0600
TZNAME:MDT
DTSTART:20270314T090000
END:DAYLIGHT
BEGIN:STANDARD
TZOFFSETFROM:-0600
TZOFFSETTO:-0700
TZNAME:MST
DTSTART:20271107T080000
END:STANDARD
END:VTIMEZONE
BEGIN:VEVENT
DTSTART;TZID=America/Denver:20260302T110000
DTEND;TZID=America/Denver:20260302T130000
DTSTAMP:20260421T062824
CREATED:20260108T165922Z
LAST-MODIFIED:20260108T170231Z
UID:10026062-1772449200-1772456400@nouksanchez.com
SUMMARY:TTC w/Karen C &  Josephine #022026
DESCRIPTION:The TTC journey is a 52-week program that comprehensively covers all topics ranging from the ego and the initial thought of separation\, to “mythical me” and its idols and defenses against awakening to the Love we are\, to forgiveness and accepting the Atonement. We discuss literal healing and miracles and offer tools and prayers to make the mandatory switch from “mythical me” to Holy Self. Best of all\, you undertake this journey with like-minded\, mighty companions and begin practicing the 7 Keys of Authentic Communication and the Holy Relationship. Those who have already graduated have testified that this course is life-changing and fundamental to their awakening.  \nAttendance Policy \nThe TTC is not a self-study offering. One of the ego’s greatest fears is to join with others who want to wake up from the dream of separation. It knows that its end is near!  Perfect attendance in the TTC is not required. However\, regular attendance is. Regular attendance is at least 50% of the time.  If you cannot attend the live Zoom sessions with your camera on at least 50% of the time\, your name will be removed from the enrollment list.   Please enroll in a TTC offering that fits your schedule and you can attend and engage with your brothers and sisters in Christ at least 50% of the time. \nSchedule: \nMondays \nStarts: February 16\, 2026\n11:00 a.m. MST (USA/Canada)\n7:00 p.m. (19:00) CET (Central European Time)\n18:00 UTC\nClick here for a time zone converter:\nTime Zone Converter LinkSessions Run from 90 minutes to two hoursEnrollment closes: March 1\, 2026 \nClick here to enroll:  TTC w/Karen C & Josephine #022026
URL:https://nouksanchez.com/event/ttc-w-karen-c-josephine-022026/2026-03-02/
CATEGORIES:TTC
ATTACH;FMTTYPE=image/jpeg:https://nouksanchez.com/wp-content/uploads/2026/01/TTC-KarenCJosephine-scaled.jpg
END:VEVENT
BEGIN:VEVENT
DTSTART;TZID=America/Denver:20260304T110000
DTEND;TZID=America/Denver:20260304T120000
DTSTAMP:20260421T062824
CREATED:20250309T160519Z
LAST-MODIFIED:20260317T162256Z
UID:10013430-1772622000-1772625600@nouksanchez.com
SUMMARY:Emergence! w/Amber
DESCRIPTION:Meets Wednesdays – 11:00 a.m. Mountain Time\nEmergence is a drop-in platform for deep\, heart-based expressing of the Emergence of the Christ in us. No curriculum. Just us showing up with hearts on Fire for the Truth. Come in Mightiness! Ready to pray and to receive for the Whole Sonship. \nIt’s sharing Miracles\, Aha moments\, and direct questions with very little ‘personal story.’ It began spontaneously a couple of years ago as an extra hour for Amber’s TTC participants to Join in the immediacy of the Now. It grew and we felt to open it to anyone in our Take Me to Truth family. The meetings are deeply inspiring and relevant for us all. The questions (and Holy Spirit’s answers) are for each of us. \nEnroll here:  Emergence! w/Amber \nClick here to find the meeting time in your time zone:  Time Zone Converter
URL:https://nouksanchez.com/event/emergence-w-amber-2/2026-03-04/
CATEGORIES:TTC
END:VEVENT
BEGIN:VEVENT
DTSTART;TZID=America/Denver:20260306T230000
DTEND;TZID=America/Denver:20260307T010000
DTSTAMP:20260421T062824
CREATED:20231114T013104Z
LAST-MODIFIED:20260317T163145Z
UID:10011948-1772838000-1772845200@nouksanchez.com
SUMMARY:The Next Level of Trust w/Allen - 1
DESCRIPTION:Announcing a new opportunity for TTC Graduates to join with their Holy brothers and sisters \nThe Next Level of Trust for all TTC Graduates meets every Saturday at \n7:00 am Central European Time (CET) \n5:00 pm (17:00) Australian Eastern Time (AET) \n06:00 UTC \nMidnight\, Friday\, Mountain Daylight Time (MDT USA/Canada) \nTime Zone Converter: click to find the time in your time zone \nThe Next Level of Trust sessions are a place of continued gathering of those who have graduated from the Total Transformation Course and long to continue both the joining and the sharing of what it is like to let go of all stories and instead embody the Light that we are. It is here that we are all teachers and students. We hold space for one another in total trust that the Holy Spirit\, our right Mind\, is speaking through each one of us. In our sharing of our revelations\, our demonstrations\, and testimonies of healing\, we anchor the Truth ever more deeply.  We allow the Love we share to grow into such proportions that bodies and stories and all remnants of separation simply dissolve into the memory of the one shared Holy Self we are. We welcome you with open arms and look forward to continuing the journey Home with you here. \nThis session is facilitated by our dear brother\, Allen.  Please click here for more information about Allen. \nClick here for more info about Allen \nThis offering is open to TTC graduates.  If you are a TTC graduate and want to join\, please send an email to truth@takemetotruth.org .  Tell us your TTC facilitator’s name and we will confirm your status and send you a link to enroll. \nAll offerings are by donation.  If you are guided\, please donate here:  Donate Here
URL:https://nouksanchez.com/event/the-next-level-of-trust-w-allen-2-2/2026-03-06/
CATEGORIES:Post-TTC
END:VEVENT
BEGIN:VEVENT
DTSTART;TZID=America/Denver:20260307T070000
DTEND;TZID=America/Denver:20260307T090000
DTSTAMP:20260421T062824
CREATED:20231104T214213Z
LAST-MODIFIED:20260317T163557Z
UID:10011426-1772866800-1772874000@nouksanchez.com
SUMMARY:The Next Level of Trust w/Allen - 2
DESCRIPTION:The Next Level of Trust w/Allen \nAnnouncing a new opportunity for TTC Graduates to join with their Holy brothers and sisters \nThe Next Level of Trust for all TTC Graduates meets every Saturday. \n7:00 am Mountain Daylight Time  (MDT USA/Canada) \n2:00 pm (14:00) Central European Time (CET) \nMidnight Saturday Australian Eastern Time (AET) \n13:00 UTC \nTime Zone Converter: click to find the time in your time zone \nWelcome to The Next Level of Trust w/Allen. This is a place of continued gathering of those who have graduated from the Total Transformation Course and long to continue both the joining and the sharing of what it is like to let go of all stories and instead embody the Light that we are. It is here that we hold space for one another in total trust that the Holy Spirit\, our right Mind\, is speaking through each and every one of us\, and we are all Teacher and Student. In our sharing of our revelations\, our demonstrations and testimonies of healing\, we anchor the Truth ever more deeply\, along with allowing the Love we share to grow into such proportions that bodies and stories and all remnants of separation simply dissolve into the memory of the One shared Holy Self we are. We welcome you with open arms and look forward to continuing the journey Home with you here. \nThis session is facilitated by our dear brother\, Allen.  Please click here for more information about Allen. \nClick here for more info about Allen \nThis offering is open to TTC graduates.  If you are a TTC graduate and want to join\, please send an email to truth@takemetotruth.org .  Tell us your TTC facilitator’s name and we will confirm your status and send you a link to enroll. \nAll offerings are by donation.  If you are guided\, please donate here:  Donate Here
URL:https://nouksanchez.com/event/the-next-level-of-trust-w-allen/2026-03-07/
CATEGORIES:Post-TTC
END:VEVENT
BEGIN:VEVENT
DTSTART;TZID=America/Denver:20260311T110000
DTEND;TZID=America/Denver:20260311T120000
DTSTAMP:20260421T062824
CREATED:20250309T160519Z
LAST-MODIFIED:20260317T162256Z
UID:10013431-1773226800-1773230400@nouksanchez.com
SUMMARY:Emergence! w/Amber
DESCRIPTION:Meets Wednesdays – 11:00 a.m. Mountain Time\nEmergence is a drop-in platform for deep\, heart-based expressing of the Emergence of the Christ in us. No curriculum. Just us showing up with hearts on Fire for the Truth. Come in Mightiness! Ready to pray and to receive for the Whole Sonship. \nIt’s sharing Miracles\, Aha moments\, and direct questions with very little ‘personal story.’ It began spontaneously a couple of years ago as an extra hour for Amber’s TTC participants to Join in the immediacy of the Now. It grew and we felt to open it to anyone in our Take Me to Truth family. The meetings are deeply inspiring and relevant for us all. The questions (and Holy Spirit’s answers) are for each of us. \nEnroll here:  Emergence! w/Amber \nClick here to find the meeting time in your time zone:  Time Zone Converter
URL:https://nouksanchez.com/event/emergence-w-amber-2/2026-03-11/
CATEGORIES:TTC
END:VEVENT
BEGIN:VEVENT
DTSTART;TZID=America/Denver:20260313T230000
DTEND;TZID=America/Denver:20260314T010000
DTSTAMP:20260421T062824
CREATED:20231114T013104Z
LAST-MODIFIED:20260317T163145Z
UID:10011949-1773442800-1773450000@nouksanchez.com
SUMMARY:The Next Level of Trust w/Allen - 1
DESCRIPTION:Announcing a new opportunity for TTC Graduates to join with their Holy brothers and sisters \nThe Next Level of Trust for all TTC Graduates meets every Saturday at \n7:00 am Central European Time (CET) \n5:00 pm (17:00) Australian Eastern Time (AET) \n06:00 UTC \nMidnight\, Friday\, Mountain Daylight Time (MDT USA/Canada) \nTime Zone Converter: click to find the time in your time zone \nThe Next Level of Trust sessions are a place of continued gathering of those who have graduated from the Total Transformation Course and long to continue both the joining and the sharing of what it is like to let go of all stories and instead embody the Light that we are. It is here that we are all teachers and students. We hold space for one another in total trust that the Holy Spirit\, our right Mind\, is speaking through each one of us. In our sharing of our revelations\, our demonstrations\, and testimonies of healing\, we anchor the Truth ever more deeply.  We allow the Love we share to grow into such proportions that bodies and stories and all remnants of separation simply dissolve into the memory of the one shared Holy Self we are. We welcome you with open arms and look forward to continuing the journey Home with you here. \nThis session is facilitated by our dear brother\, Allen.  Please click here for more information about Allen. \nClick here for more info about Allen \nThis offering is open to TTC graduates.  If you are a TTC graduate and want to join\, please send an email to truth@takemetotruth.org .  Tell us your TTC facilitator’s name and we will confirm your status and send you a link to enroll. \nAll offerings are by donation.  If you are guided\, please donate here:  Donate Here
URL:https://nouksanchez.com/event/the-next-level-of-trust-w-allen-2-2/2026-03-13/
CATEGORIES:Post-TTC
END:VEVENT
BEGIN:VEVENT
DTSTART;TZID=America/Denver:20260314T070000
DTEND;TZID=America/Denver:20260314T090000
DTSTAMP:20260421T062824
CREATED:20231104T214213Z
LAST-MODIFIED:20260317T163557Z
UID:10011427-1773471600-1773478800@nouksanchez.com
SUMMARY:The Next Level of Trust w/Allen - 2
DESCRIPTION:The Next Level of Trust w/Allen \nAnnouncing a new opportunity for TTC Graduates to join with their Holy brothers and sisters \nThe Next Level of Trust for all TTC Graduates meets every Saturday. \n7:00 am Mountain Daylight Time  (MDT USA/Canada) \n2:00 pm (14:00) Central European Time (CET) \nMidnight Saturday Australian Eastern Time (AET) \n13:00 UTC \nTime Zone Converter: click to find the time in your time zone \nWelcome to The Next Level of Trust w/Allen. This is a place of continued gathering of those who have graduated from the Total Transformation Course and long to continue both the joining and the sharing of what it is like to let go of all stories and instead embody the Light that we are. It is here that we hold space for one another in total trust that the Holy Spirit\, our right Mind\, is speaking through each and every one of us\, and we are all Teacher and Student. In our sharing of our revelations\, our demonstrations and testimonies of healing\, we anchor the Truth ever more deeply\, along with allowing the Love we share to grow into such proportions that bodies and stories and all remnants of separation simply dissolve into the memory of the One shared Holy Self we are. We welcome you with open arms and look forward to continuing the journey Home with you here. \nThis session is facilitated by our dear brother\, Allen.  Please click here for more information about Allen. \nClick here for more info about Allen \nThis offering is open to TTC graduates.  If you are a TTC graduate and want to join\, please send an email to truth@takemetotruth.org .  Tell us your TTC facilitator’s name and we will confirm your status and send you a link to enroll. \nAll offerings are by donation.  If you are guided\, please donate here:  Donate Here
URL:https://nouksanchez.com/event/the-next-level-of-trust-w-allen/2026-03-14/
CATEGORIES:Post-TTC
END:VEVENT
BEGIN:VEVENT
DTSTART;TZID=America/Denver:20260318T110000
DTEND;TZID=America/Denver:20260318T120000
DTSTAMP:20260421T062824
CREATED:20250309T160519Z
LAST-MODIFIED:20260317T162256Z
UID:10013432-1773831600-1773835200@nouksanchez.com
SUMMARY:Emergence! w/Amber
DESCRIPTION:Meets Wednesdays – 11:00 a.m. Mountain Time\nEmergence is a drop-in platform for deep\, heart-based expressing of the Emergence of the Christ in us. No curriculum. Just us showing up with hearts on Fire for the Truth. Come in Mightiness! Ready to pray and to receive for the Whole Sonship. \nIt’s sharing Miracles\, Aha moments\, and direct questions with very little ‘personal story.’ It began spontaneously a couple of years ago as an extra hour for Amber’s TTC participants to Join in the immediacy of the Now. It grew and we felt to open it to anyone in our Take Me to Truth family. The meetings are deeply inspiring and relevant for us all. The questions (and Holy Spirit’s answers) are for each of us. \nEnroll here:  Emergence! w/Amber \nClick here to find the meeting time in your time zone:  Time Zone Converter
URL:https://nouksanchez.com/event/emergence-w-amber-2/2026-03-18/
CATEGORIES:TTC
END:VEVENT
BEGIN:VEVENT
DTSTART;TZID=America/Denver:20260321T000000
DTEND;TZID=America/Denver:20260321T020000
DTSTAMP:20260421T062824
CREATED:20260317T181643Z
LAST-MODIFIED:20260317T181644Z
UID:10011950-1774051200-1774058400@nouksanchez.com
SUMMARY:The Next Level of Trust w/Allen - 1
DESCRIPTION:Announcing a new opportunity for TTC Graduates to join with their Holy brothers and sisters \nThe Next Level of Trust for all TTC Graduates meets every Saturday at \n7:00 am Central European Time (CET) \n5:00 pm (17:00) Australian Eastern Time (AET) \n06:00 UTC \nMidnight\, Friday\, Mountain Daylight Time (MDT USA/Canada) \nTime Zone Converter: click to find the time in your time zone \nThe Next Level of Trust sessions are a place of continued gathering of those who have graduated from the Total Transformation Course and long to continue both the joining and the sharing of what it is like to let go of all stories and instead embody the Light that we are. It is here that we are all teachers and students. We hold space for one another in total trust that the Holy Spirit\, our right Mind\, is speaking through each one of us. In our sharing of our revelations\, our demonstrations\, and testimonies of healing\, we anchor the Truth ever more deeply.  We allow the Love we share to grow into such proportions that bodies and stories and all remnants of separation simply dissolve into the memory of the one shared Holy Self we are. We welcome you with open arms and look forward to continuing the journey Home with you here. \nThis session is facilitated by our dear brother\, Allen.  Please click here for more information about Allen. \nClick here for more info about Allen \nThis offering is open to TTC graduates.  If you are a TTC graduate and want to join\, please send an email to truth@takemetotruth.org .  Tell us your TTC facilitator’s name and we will confirm your status and send you a link to enroll. \nAll offerings are by donation.  If you are guided\, please donate here:  Donate Here
URL:https://nouksanchez.com/event/the-next-level-of-trust-w-allen-2-2-2/2026-03-21/
CATEGORIES:Post-TTC
END:VEVENT
BEGIN:VEVENT
DTSTART;TZID=America/Denver:20260321T070000
DTEND;TZID=America/Denver:20260321T090000
DTSTAMP:20260421T062824
CREATED:20231104T214213Z
LAST-MODIFIED:20260317T163557Z
UID:10011428-1774076400-1774083600@nouksanchez.com
SUMMARY:The Next Level of Trust w/Allen - 2
DESCRIPTION:The Next Level of Trust w/Allen \nAnnouncing a new opportunity for TTC Graduates to join with their Holy brothers and sisters \nThe Next Level of Trust for all TTC Graduates meets every Saturday. \n7:00 am Mountain Daylight Time  (MDT USA/Canada) \n2:00 pm (14:00) Central European Time (CET) \nMidnight Saturday Australian Eastern Time (AET) \n13:00 UTC \nTime Zone Converter: click to find the time in your time zone \nWelcome to The Next Level of Trust w/Allen. This is a place of continued gathering of those who have graduated from the Total Transformation Course and long to continue both the joining and the sharing of what it is like to let go of all stories and instead embody the Light that we are. It is here that we hold space for one another in total trust that the Holy Spirit\, our right Mind\, is speaking through each and every one of us\, and we are all Teacher and Student. In our sharing of our revelations\, our demonstrations and testimonies of healing\, we anchor the Truth ever more deeply\, along with allowing the Love we share to grow into such proportions that bodies and stories and all remnants of separation simply dissolve into the memory of the One shared Holy Self we are. We welcome you with open arms and look forward to continuing the journey Home with you here. \nThis session is facilitated by our dear brother\, Allen.  Please click here for more information about Allen. \nClick here for more info about Allen \nThis offering is open to TTC graduates.  If you are a TTC graduate and want to join\, please send an email to truth@takemetotruth.org .  Tell us your TTC facilitator’s name and we will confirm your status and send you a link to enroll. \nAll offerings are by donation.  If you are guided\, please donate here:  Donate Here
URL:https://nouksanchez.com/event/the-next-level-of-trust-w-allen/2026-03-21/
CATEGORIES:Post-TTC
END:VEVENT
BEGIN:VEVENT
DTSTART;TZID=America/Denver:20260325T110000
DTEND;TZID=America/Denver:20260325T120000
DTSTAMP:20260421T062824
CREATED:20250309T160519Z
LAST-MODIFIED:20260317T162256Z
UID:10013433-1774436400-1774440000@nouksanchez.com
SUMMARY:Emergence! w/Amber
DESCRIPTION:Meets Wednesdays – 11:00 a.m. Mountain Time\nEmergence is a drop-in platform for deep\, heart-based expressing of the Emergence of the Christ in us. No curriculum. Just us showing up with hearts on Fire for the Truth. Come in Mightiness! Ready to pray and to receive for the Whole Sonship. \nIt’s sharing Miracles\, Aha moments\, and direct questions with very little ‘personal story.’ It began spontaneously a couple of years ago as an extra hour for Amber’s TTC participants to Join in the immediacy of the Now. It grew and we felt to open it to anyone in our Take Me to Truth family. The meetings are deeply inspiring and relevant for us all. The questions (and Holy Spirit’s answers) are for each of us. \nEnroll here:  Emergence! w/Amber \nClick here to find the meeting time in your time zone:  Time Zone Converter
URL:https://nouksanchez.com/event/emergence-w-amber-2/2026-03-25/
CATEGORIES:TTC
END:VEVENT
BEGIN:VEVENT
DTSTART;TZID=America/Denver:20260328T000000
DTEND;TZID=America/Denver:20260328T020000
DTSTAMP:20260421T062824
CREATED:20260317T181643Z
LAST-MODIFIED:20260317T181644Z
UID:10026749-1774656000-1774663200@nouksanchez.com
SUMMARY:The Next Level of Trust w/Allen - 1
DESCRIPTION:Announcing a new opportunity for TTC Graduates to join with their Holy brothers and sisters \nThe Next Level of Trust for all TTC Graduates meets every Saturday at \n7:00 am Central European Time (CET) \n5:00 pm (17:00) Australian Eastern Time (AET) \n06:00 UTC \nMidnight\, Friday\, Mountain Daylight Time (MDT USA/Canada) \nTime Zone Converter: click to find the time in your time zone \nThe Next Level of Trust sessions are a place of continued gathering of those who have graduated from the Total Transformation Course and long to continue both the joining and the sharing of what it is like to let go of all stories and instead embody the Light that we are. It is here that we are all teachers and students. We hold space for one another in total trust that the Holy Spirit\, our right Mind\, is speaking through each one of us. In our sharing of our revelations\, our demonstrations\, and testimonies of healing\, we anchor the Truth ever more deeply.  We allow the Love we share to grow into such proportions that bodies and stories and all remnants of separation simply dissolve into the memory of the one shared Holy Self we are. We welcome you with open arms and look forward to continuing the journey Home with you here. \nThis session is facilitated by our dear brother\, Allen.  Please click here for more information about Allen. \nClick here for more info about Allen \nThis offering is open to TTC graduates.  If you are a TTC graduate and want to join\, please send an email to truth@takemetotruth.org .  Tell us your TTC facilitator’s name and we will confirm your status and send you a link to enroll. \nAll offerings are by donation.  If you are guided\, please donate here:  Donate Here
URL:https://nouksanchez.com/event/the-next-level-of-trust-w-allen-2-2-2/2026-03-28/
CATEGORIES:Post-TTC
END:VEVENT
BEGIN:VEVENT
DTSTART;TZID=America/Denver:20260328T070000
DTEND;TZID=America/Denver:20260328T090000
DTSTAMP:20260421T062824
CREATED:20231104T214213Z
LAST-MODIFIED:20260317T163557Z
UID:10011429-1774681200-1774688400@nouksanchez.com
SUMMARY:The Next Level of Trust w/Allen - 2
DESCRIPTION:The Next Level of Trust w/Allen \nAnnouncing a new opportunity for TTC Graduates to join with their Holy brothers and sisters \nThe Next Level of Trust for all TTC Graduates meets every Saturday. \n7:00 am Mountain Daylight Time  (MDT USA/Canada) \n2:00 pm (14:00) Central European Time (CET) \nMidnight Saturday Australian Eastern Time (AET) \n13:00 UTC \nTime Zone Converter: click to find the time in your time zone \nWelcome to The Next Level of Trust w/Allen. This is a place of continued gathering of those who have graduated from the Total Transformation Course and long to continue both the joining and the sharing of what it is like to let go of all stories and instead embody the Light that we are. It is here that we hold space for one another in total trust that the Holy Spirit\, our right Mind\, is speaking through each and every one of us\, and we are all Teacher and Student. In our sharing of our revelations\, our demonstrations and testimonies of healing\, we anchor the Truth ever more deeply\, along with allowing the Love we share to grow into such proportions that bodies and stories and all remnants of separation simply dissolve into the memory of the One shared Holy Self we are. We welcome you with open arms and look forward to continuing the journey Home with you here. \nThis session is facilitated by our dear brother\, Allen.  Please click here for more information about Allen. \nClick here for more info about Allen \nThis offering is open to TTC graduates.  If you are a TTC graduate and want to join\, please send an email to truth@takemetotruth.org .  Tell us your TTC facilitator’s name and we will confirm your status and send you a link to enroll. \nAll offerings are by donation.  If you are guided\, please donate here:  Donate Here
URL:https://nouksanchez.com/event/the-next-level-of-trust-w-allen/2026-03-28/
CATEGORIES:Post-TTC
END:VEVENT
END:VCALENDAR