BEGIN:VCALENDAR
VERSION:2.0
PRODID:-//Nouk Sanchez | Take Me to Truth - ECPv6.15.20//NONSGML v1.0//EN
CALSCALE:GREGORIAN
METHOD:PUBLISH
X-WR-CALNAME:Nouk Sanchez | Take Me to Truth
X-ORIGINAL-URL:https://nouksanchez.com
X-WR-CALDESC:Events for Nouk Sanchez | Take Me to Truth
REFRESH-INTERVAL;VALUE=DURATION:PT1H
X-Robots-Tag:noindex
X-PUBLISHED-TTL:PT1H
BEGIN:VTIMEZONE
TZID:America/Denver
BEGIN:DAYLIGHT
TZOFFSETFROM:-0700
TZOFFSETTO:-0600
TZNAME:MDT
DTSTART:20250309T090000
END:DAYLIGHT
BEGIN:STANDARD
TZOFFSETFROM:-0600
TZOFFSETTO:-0700
TZNAME:MST
DTSTART:20251102T080000
END:STANDARD
BEGIN:DAYLIGHT
TZOFFSETFROM:-0700
TZOFFSETTO:-0600
TZNAME:MDT
DTSTART:20260308T090000
END:DAYLIGHT
BEGIN:STANDARD
TZOFFSETFROM:-0600
TZOFFSETTO:-0700
TZNAME:MST
DTSTART:20261101T080000
END:STANDARD
BEGIN:DAYLIGHT
TZOFFSETFROM:-0700
TZOFFSETTO:-0600
TZNAME:MDT
DTSTART:20270314T090000
END:DAYLIGHT
BEGIN:STANDARD
TZOFFSETFROM:-0600
TZOFFSETTO:-0700
TZNAME:MST
DTSTART:20271107T080000
END:STANDARD
END:VTIMEZONE
BEGIN:VEVENT
DTSTART;TZID=America/Denver:20260411T090000
DTEND;TZID=America/Denver:20260411T110000
DTSTAMP:20260421T092239
CREATED:20250616T193923Z
LAST-MODIFIED:20260317T162616Z
UID:10017937-1775898000-1775905200@nouksanchez.com
SUMMARY:Essence! with Amber
DESCRIPTION:Essence is a drop-in platform for deep connection in the Sacred Heart of the living Christ as the Course teachings are illuminated and inspired by the Holy Spirit. \nCome\, let us Breathe these Miracles together in His Name and receive the ALIVE Word of the Course in Miracles text! We’ll journey as Guided by Him\, joyfully harvesting the Jewels He gives. \nThis is not a study group\, but a mystical Joining to receive the felt state of Truth\, Presence and the Awareness of ‘I AM.’ \nMeets:  Saturdays at 9 a.m. Mountain Time \nTime Zone Converter link: https://www.timeanddate.com/worldclock/converter-classic.html \nEnroll here:  Essence! with Amber
URL:https://nouksanchez.com/event/essence-with-amber/2026-04-11/
CATEGORIES:General Sharing
END:VEVENT
END:VCALENDAR