BEGIN:VCALENDAR
VERSION:2.0
PRODID:-//Nouk Sanchez | Take Me to Truth - ECPv6.15.20//NONSGML v1.0//EN
CALSCALE:GREGORIAN
METHOD:PUBLISH
X-WR-CALNAME:Nouk Sanchez | Take Me to Truth
X-ORIGINAL-URL:https://nouksanchez.com
X-WR-CALDESC:Events for Nouk Sanchez | Take Me to Truth
REFRESH-INTERVAL;VALUE=DURATION:PT1H
X-Robots-Tag:noindex
X-PUBLISHED-TTL:PT1H
BEGIN:VTIMEZONE
TZID:America/Denver
BEGIN:DAYLIGHT
TZOFFSETFROM:-0700
TZOFFSETTO:-0600
TZNAME:MDT
DTSTART:20250309T090000
END:DAYLIGHT
BEGIN:STANDARD
TZOFFSETFROM:-0600
TZOFFSETTO:-0700
TZNAME:MST
DTSTART:20251102T080000
END:STANDARD
BEGIN:DAYLIGHT
TZOFFSETFROM:-0700
TZOFFSETTO:-0600
TZNAME:MDT
DTSTART:20260308T090000
END:DAYLIGHT
BEGIN:STANDARD
TZOFFSETFROM:-0600
TZOFFSETTO:-0700
TZNAME:MST
DTSTART:20261101T080000
END:STANDARD
BEGIN:DAYLIGHT
TZOFFSETFROM:-0700
TZOFFSETTO:-0600
TZNAME:MDT
DTSTART:20270314T090000
END:DAYLIGHT
BEGIN:STANDARD
TZOFFSETFROM:-0600
TZOFFSETTO:-0700
TZNAME:MST
DTSTART:20271107T080000
END:STANDARD
END:VTIMEZONE
BEGIN:VEVENT
DTSTART;TZID=America/Denver:20260422T070000
DTEND;TZID=America/Denver:20260422T071500
DTSTAMP:20260422T015703
CREATED:20251031T004203Z
LAST-MODIFIED:20260317T161701Z
UID:10006977-1776841200-1776842100@nouksanchez.com
SUMMARY:Breathing God
DESCRIPTION:Why Breathing? Because the simple act of being breathed is a symbol of the infinite exchange within the Father and the Son. Spirit and Breath are the same word in Aramaic.\n\nThe invitation to be humbly aware of God breathing us causes all effort to cease. This wonderful aide to tender vigilance rises in our Right Mind and takes our daily Course practice to a whole new level. In the sweet Stillness\, Holy Spirit teaches\, translates\, and guides us as we directly experience the Truth in the sacred words. We are not thinking or studying ‘about’ it. We read\, then practice together in Silence to hear His Voice. It is ALIVE in us as the Living Word\, His Son.\n\n7:00 a.m. Mountain Time\n\nLink to Amber’s zoom room:  Click here to access the zoom room\n\nEnroll here:  Breathing God
URL:https://nouksanchez.com/event/come-breathe-with-me-2-2-2/2026-04-22/
CATEGORIES:Meditation
ATTACH;FMTTYPE=image/jpeg:https://nouksanchez.com/wp-content/uploads/2022/06/event_class_come_breathe_with_me.jpg
END:VEVENT
BEGIN:VEVENT
DTSTART;TZID=America/Denver:20260422T070000
DTEND;TZID=America/Denver:20260422T080000
DTSTAMP:20260422T015703
CREATED:20260108T164623Z
LAST-MODIFIED:20260108T164623Z
UID:10025806-1776841200-1776844800@nouksanchez.com
SUMMARY:ACIM Daily Workbook Lesson Reflections - 2026
DESCRIPTION:Every morning in 2026\, we read and lightly unpack the daily Workbook lesson followed by a joining with the intention of receiving the transmission from the passage and emphasizing the experiential felt state of ‘I Am’ with live participants. \nImmediately following each half hour lesson attendees may choose to stay as we then read from the text or other ACIM literature to get a deeper understanding of A Course in Miracles in the group setting. \nAlong with the incredibly helpful daily lesson unpacking with Nouk and Coreen on YouTube\, we highly recommend you honor your Self with a quiet space to join with the idea for the day in your daily Workbook Lesson.  \nThe Workbook Lessons give each of us such an incredible opportunity to get still\, to join\, and to listen to our Inner Teacher\, the Holy Spirit. We will receive direct insights that are meant for each of us to support the mind training that will undo the false self-concepts that are in the way of Truth\, in the way of the Presence of the Christ I Am. \nMeets Daily \n7:00 a.m. Mountain Time (USA) \nFor Zoom Access and additional information\, enroll here: \nACIM Daily Lesson Reflections – 2026
URL:https://nouksanchez.com/event/acim-daily-workbook-lesson-reflections-2026/2026-04-22/
CATEGORIES:Workbook Lessons
END:VEVENT
BEGIN:VEVENT
DTSTART;TZID=America/Denver:20260422T100000
DTEND;TZID=America/Denver:20260422T113000
DTSTAMP:20260422T015703
CREATED:20260309T223708Z
LAST-MODIFIED:20260309T223935Z
UID:10026083-1776852000-1776857400@nouksanchez.com
SUMMARY:TTC w/Karen M #042026
DESCRIPTION:The TTC journey is a 52-week program that comprehensively covers all topics ranging from the ego and the initial thought of separation\, to “mythical me” and its idols and defenses against awakening to the Love we are\, to forgiveness and accepting the Atonement. We discuss literal healing and miracles and offer tools and prayers to make the mandatory switch from “mythical me” to Holy Self. Best of all\, you undertake this journey with like-minded\, mighty companions and begin practicing the 7 Keys of Authentic Communication and the Holy Relationship. Those who have already graduated have testified that this course is life-changing and fundamental to their awakening.  \nThe TTC is not a self-study offering.  Although perfect attendance in the zoom room is not required\, regular attendance is. \nBy Donation \nMeets Wednesdays\, starting April 8\, 2026 at 10:00 a.m. MDT (USA/Canada) [16:00 UTC] \nEnrollment Closes on 04/22/2026 \nSessions run 90 minutes to two hours \nClick here for a time zone converter \nClick here to enroll in this offering
URL:https://nouksanchez.com/event/ttc-w-karen-m-042026/2026-04-22/
CATEGORIES:TTC
ATTACH;FMTTYPE=image/jpeg:https://nouksanchez.com/wp-content/uploads/2025/01/TTC-16-by-9-Karen-M-scaled.jpg
END:VEVENT
BEGIN:VEVENT
DTSTART;TZID=America/Denver:20260422T110000
DTEND;TZID=America/Denver:20260422T120000
DTSTAMP:20260422T015703
CREATED:20250309T160519Z
LAST-MODIFIED:20260317T162256Z
UID:10013437-1776855600-1776859200@nouksanchez.com
SUMMARY:Emergence! w/Amber
DESCRIPTION:Meets Wednesdays – 11:00 a.m. Mountain Time\nEmergence is a drop-in platform for deep\, heart-based expressing of the Emergence of the Christ in us. No curriculum. Just us showing up with hearts on Fire for the Truth. Come in Mightiness! Ready to pray and to receive for the Whole Sonship. \nIt’s sharing Miracles\, Aha moments\, and direct questions with very little ‘personal story.’ It began spontaneously a couple of years ago as an extra hour for Amber’s TTC participants to Join in the immediacy of the Now. It grew and we felt to open it to anyone in our Take Me to Truth family. The meetings are deeply inspiring and relevant for us all. The questions (and Holy Spirit’s answers) are for each of us. \nEnroll here:  Emergence! w/Amber \nClick here to find the meeting time in your time zone:  Time Zone Converter
URL:https://nouksanchez.com/event/emergence-w-amber-2/2026-04-22/
CATEGORIES:TTC
END:VEVENT
BEGIN:VEVENT
DTSTART;TZID=America/Denver:20260422T170000
DTEND;TZID=America/Denver:20260422T190000
DTSTAMP:20260422T015703
CREATED:20251020T170623Z
LAST-MODIFIED:20260317T162802Z
UID:10024844-1776877200-1776884400@nouksanchez.com
SUMMARY:ACIM Illuminated Movie Review Gathering
DESCRIPTION:Welcome to this new offering as we share a common goal of healing our minds together through this movie gathering experience\, allowing the expansion of the Love within the Temple of God to bring salvation to the world.\nThis class experience will be an ongoing monthly joining where we will collaboratively unpack each selected movie using Christ Vision\, the ACIM text\, workbook lessons (recommend watching Nouk and Coreen’s recordings)\, the Gap and Shield of Fear Diagrams\, and the 7 Keys of Authentic Communication.\nThis movie gathering will not be about the entertainment value or our own stories. This unique joining will be about the healing of our mind as we use ACIM and the Take Me To Truth tools to help guide us in unpacking the truth behind each movie perception.\nOn the first of each month all registered participants will receive an email with the movie title that will be reviewed during the last week of that same month. Each participant will be responsible for watching the movie on their own\, taking notes related to ACIM\, the Take Me to Truth Tools\, including reactions\, and be prepared to share their beautiful experiences as they relate to the movie.\nWe ask that participants refrain from emailing the facilitators movie-related questions. We want this to be a shared joining experience that is part of the intended healing process for us all.\nYou may join the sessions live in the Zoom room and/or you can view the replay videos.\n— 4th Wednesday of each month:\n5:00 pm Mountain Time (USA/Canada)\n(sessions run approximately 2 hours)\nBy Donation\nTime Zone Converter Link\nClick here to enroll
URL:https://nouksanchez.com/event/acim-illuminated-movie-review-gathering-2-2/2026-04-22/
CATEGORIES:Joining to Heal
END:VEVENT
END:VCALENDAR