BEGIN:VCALENDAR
VERSION:2.0
PRODID:-//Nouk Sanchez | Take Me to Truth - ECPv6.15.20//NONSGML v1.0//EN
CALSCALE:GREGORIAN
METHOD:PUBLISH
X-ORIGINAL-URL:https://nouksanchez.com
X-WR-CALDESC:Events for Nouk Sanchez | Take Me to Truth
REFRESH-INTERVAL;VALUE=DURATION:PT1H
X-Robots-Tag:noindex
X-PUBLISHED-TTL:PT1H
BEGIN:VTIMEZONE
TZID:America/Denver
BEGIN:DAYLIGHT
TZOFFSETFROM:-0700
TZOFFSETTO:-0600
TZNAME:MDT
DTSTART:20250309T090000
END:DAYLIGHT
BEGIN:STANDARD
TZOFFSETFROM:-0600
TZOFFSETTO:-0700
TZNAME:MST
DTSTART:20251102T080000
END:STANDARD
BEGIN:DAYLIGHT
TZOFFSETFROM:-0700
TZOFFSETTO:-0600
TZNAME:MDT
DTSTART:20260308T090000
END:DAYLIGHT
BEGIN:STANDARD
TZOFFSETFROM:-0600
TZOFFSETTO:-0700
TZNAME:MST
DTSTART:20261101T080000
END:STANDARD
BEGIN:DAYLIGHT
TZOFFSETFROM:-0700
TZOFFSETTO:-0600
TZNAME:MDT
DTSTART:20270314T090000
END:DAYLIGHT
BEGIN:STANDARD
TZOFFSETFROM:-0600
TZOFFSETTO:-0700
TZNAME:MST
DTSTART:20271107T080000
END:STANDARD
END:VTIMEZONE
BEGIN:VEVENT
DTSTART;TZID=America/Denver:20260311T070000
DTEND;TZID=America/Denver:20260311T071500
DTSTAMP:20260421T082733
CREATED:20251031T004203Z
LAST-MODIFIED:20260317T161701Z
UID:10006935-1773212400-1773213300@nouksanchez.com
SUMMARY:Breathing God
DESCRIPTION:Why Breathing? Because the simple act of being breathed is a symbol of the infinite exchange within the Father and the Son. Spirit and Breath are the same word in Aramaic.\n\nThe invitation to be humbly aware of God breathing us causes all effort to cease. This wonderful aide to tender vigilance rises in our Right Mind and takes our daily Course practice to a whole new level. In the sweet Stillness\, Holy Spirit teaches\, translates\, and guides us as we directly experience the Truth in the sacred words. We are not thinking or studying ‘about’ it. We read\, then practice together in Silence to hear His Voice. It is ALIVE in us as the Living Word\, His Son.\n\n7:00 a.m. Mountain Time\n\nLink to Amber’s zoom room:  Click here to access the zoom room\n\nEnroll here:  Breathing God
URL:https://nouksanchez.com/event/come-breathe-with-me-2-2-2/2026-03-11/
CATEGORIES:Meditation
ATTACH;FMTTYPE=image/jpeg:https://nouksanchez.com/wp-content/uploads/2022/06/event_class_come_breathe_with_me.jpg
END:VEVENT
BEGIN:VEVENT
DTSTART;TZID=America/Denver:20260311T070000
DTEND;TZID=America/Denver:20260311T080000
DTSTAMP:20260421T082733
CREATED:20260108T164623Z
LAST-MODIFIED:20260108T164623Z
UID:10025764-1773212400-1773216000@nouksanchez.com
SUMMARY:ACIM Daily Workbook Lesson Reflections - 2026
DESCRIPTION:Every morning in 2026\, we read and lightly unpack the daily Workbook lesson followed by a joining with the intention of receiving the transmission from the passage and emphasizing the experiential felt state of ‘I Am’ with live participants. \nImmediately following each half hour lesson attendees may choose to stay as we then read from the text or other ACIM literature to get a deeper understanding of A Course in Miracles in the group setting. \nAlong with the incredibly helpful daily lesson unpacking with Nouk and Coreen on YouTube\, we highly recommend you honor your Self with a quiet space to join with the idea for the day in your daily Workbook Lesson.  \nThe Workbook Lessons give each of us such an incredible opportunity to get still\, to join\, and to listen to our Inner Teacher\, the Holy Spirit. We will receive direct insights that are meant for each of us to support the mind training that will undo the false self-concepts that are in the way of Truth\, in the way of the Presence of the Christ I Am. \nMeets Daily \n7:00 a.m. Mountain Time (USA) \nFor Zoom Access and additional information\, enroll here: \nACIM Daily Lesson Reflections – 2026
URL:https://nouksanchez.com/event/acim-daily-workbook-lesson-reflections-2026/2026-03-11/
CATEGORIES:Workbook Lessons
END:VEVENT
BEGIN:VEVENT
DTSTART;TZID=America/Denver:20260311T110000
DTEND;TZID=America/Denver:20260311T120000
DTSTAMP:20260421T082733
CREATED:20250309T160519Z
LAST-MODIFIED:20260317T162256Z
UID:10013431-1773226800-1773230400@nouksanchez.com
SUMMARY:Emergence! w/Amber
DESCRIPTION:Meets Wednesdays – 11:00 a.m. Mountain Time\nEmergence is a drop-in platform for deep\, heart-based expressing of the Emergence of the Christ in us. No curriculum. Just us showing up with hearts on Fire for the Truth. Come in Mightiness! Ready to pray and to receive for the Whole Sonship. \nIt’s sharing Miracles\, Aha moments\, and direct questions with very little ‘personal story.’ It began spontaneously a couple of years ago as an extra hour for Amber’s TTC participants to Join in the immediacy of the Now. It grew and we felt to open it to anyone in our Take Me to Truth family. The meetings are deeply inspiring and relevant for us all. The questions (and Holy Spirit’s answers) are for each of us. \nEnroll here:  Emergence! w/Amber \nClick here to find the meeting time in your time zone:  Time Zone Converter
URL:https://nouksanchez.com/event/emergence-w-amber-2/2026-03-11/
CATEGORIES:TTC
END:VEVENT
END:VCALENDAR